BEGIN:VCALENDAR
VERSION:2.0
PRODID:-//DaPonte String Quartet - ECPv6.15.20//NONSGML v1.0//EN
CALSCALE:GREGORIAN
METHOD:PUBLISH
X-WR-CALNAME:DaPonte String Quartet
X-ORIGINAL-URL:https://dapontequartet.org
X-WR-CALDESC:Events for DaPonte String Quartet
REFRESH-INTERVAL;VALUE=DURATION:PT1H
X-Robots-Tag:noindex
X-PUBLISHED-TTL:PT1H
BEGIN:VTIMEZONE
TZID:UTC
BEGIN:STANDARD
TZOFFSETFROM:+0000
TZOFFSETTO:+0000
TZNAME:UTC
DTSTART:20230101T000000
END:STANDARD
END:VTIMEZONE
BEGIN:VTIMEZONE
TZID:America/New_York
BEGIN:DAYLIGHT
TZOFFSETFROM:-0500
TZOFFSETTO:-0400
TZNAME:EDT
DTSTART:20230312T070000
END:DAYLIGHT
BEGIN:STANDARD
TZOFFSETFROM:-0400
TZOFFSETTO:-0500
TZNAME:EST
DTSTART:20231105T060000
END:STANDARD
BEGIN:DAYLIGHT
TZOFFSETFROM:-0500
TZOFFSETTO:-0400
TZNAME:EDT
DTSTART:20240310T070000
END:DAYLIGHT
BEGIN:STANDARD
TZOFFSETFROM:-0400
TZOFFSETTO:-0500
TZNAME:EST
DTSTART:20241103T060000
END:STANDARD
BEGIN:DAYLIGHT
TZOFFSETFROM:-0500
TZOFFSETTO:-0400
TZNAME:EDT
DTSTART:20250309T070000
END:DAYLIGHT
BEGIN:STANDARD
TZOFFSETFROM:-0400
TZOFFSETTO:-0500
TZNAME:EST
DTSTART:20251102T060000
END:STANDARD
END:VTIMEZONE
BEGIN:VEVENT
DTSTART;TZID=UTC:20240622T150000
DTEND;TZID=UTC:20240622T173000
DTSTAMP:20260419T092339
CREATED:20240601T165320Z
LAST-MODIFIED:20240621T021007Z
UID:1043-1719068400-1719077400@dapontequartet.org
SUMMARY:DSQ Quartet Institute Concert & Special Event
DESCRIPTION:This unique event will feature a concert by the participants and faculty of the DaPonte String Quartet Institute 2024.  It will include a brief demonstration of rehearsal techniques we’ve shared during our week together.  There will also be a reception during which you can meet this year’s participants. \nThe program will begin with a few movements of Beethoven String Quartet in C# Minor\, Op. 131 performed by Institute participants.  It will conclude with Schubert’s great Cello Quintet  played by the DSQ and our guest faculty cellist\, Scott Kluksdahl. \nThere is no admission\, but we ask that you reserve your ticket to help us get an idea of audience size.  Donations for our Institute program are gratefully accepted at the door\, or you can donate through our website when you reserve your ticket\, https://dapontequartet.org/tickets/ \nLinden Tree Meetinghouse is located at 10 Church Lane in Phippsburg.
URL:https://dapontequartet.org/event/dsq-quartet-institute-concert-special-event/
LOCATION:Linden Tree Meetinghouse\, 10 Church Lane\, Phippsburg\, ME\, 04562\, United States
CATEGORIES:Advanced Quartet Studies Institute,Concerts
ORGANIZER;CN="DaPonte String Quartet Foundation":MAILTO:info@dapontequartet.org
END:VEVENT
BEGIN:VEVENT
DTSTART;TZID=UTC:20240526T160000
DTEND;TZID=UTC:20240526T180000
DTSTAMP:20260419T092339
CREATED:20240412T212737Z
LAST-MODIFIED:20240416T234228Z
UID:953-1716739200-1716746400@dapontequartet.org
SUMMARY:BRUNSWICK: Schumann & Brahms Piano Quartets
DESCRIPTION:Schumann Piano Quartet in Eb Major\, Op. 47 & Brahms Piano Quartet in G Minor\, Op. 25 with guest pianist\, Randall Hodgkinson. \n“The finest performance I have ever heard of this very difficult piece. It was as if he was reading my mind…” Aaron Copland on hearing pianist Randall Hodgkinson performing his Piano Fantasy in Jordan Hall\, Boston. While a student at the New England Conservatory Hodgkinson became grand prizewinner of the International American Music Competition sponsored by Carnegie Hall and the Rockefeller Foundation. He has performed with orchestras in Atlanta\, Philadelphia\, Buffalo\, Boston\, Cleveland and abroad in Italy and Iceland\, and also numerous recital programs spanning the repertoire from J.S. Bach to Donald Martino.  A frequent guest of the Boston Symphony Chamber Players\, he also performs the four-hand and two-piano repertoire with his wife\, Leslie Amper. Festival appearances include Ravinia\, Bargemusic\, Chestnut Hill Concerts in Madison Connecticut\, Seattle Chamber Music Festival\, and Chamber Music Northwest (Portland\, OR). Solo recordings on the Ongaku\, New World\, and Albany labels  have garnered much critical acclaim.  Mr. Hodgkinson is on the faculties of the New England Conservatory of Music and Wellesley College and is a certified Feldenkrais Practitioner™. 
URL:https://dapontequartet.org/event/schumann-brahms-piano-quartets-with-randall-hodgkinson-2/
LOCATION:Brunswick Unitarian Universalist Church\, 1 Middle St.\, Brunswick\, ME\, 04011\, United States
CATEGORIES:Concerts
ORGANIZER;CN="DaPonte String Quartet Foundation":MAILTO:info@dapontequartet.org
END:VEVENT
BEGIN:VEVENT
DTSTART;TZID=UTC:20240525T140000
DTEND;TZID=UTC:20240525T160000
DTSTAMP:20260419T092339
CREATED:20240412T212011Z
LAST-MODIFIED:20240416T234300Z
UID:950-1716645600-1716652800@dapontequartet.org
SUMMARY:PORTLAND: Schumann & Brahms Piano Quartets
DESCRIPTION:Schumann Piano Quartet in Eb Major\, Op. 47 & Brahms Piano Quartet in G Minor\, Op. 25 with guest pianist\, Randall Hodgkinson. \n \n“The finest performance I have ever heard of this very difficult piece. It was as if he was reading my mind…” Aaron Copland on hearing pianist Randall Hodgkinson performing his Piano Fantasy in Jordan Hall\, Boston. While a student at the New England Conservatory Hodgkinson became grand prizewinner of the International American Music Competition sponsored by Carnegie Hall and the Rockefeller Foundation. He has performed with orchestras in Atlanta\, Philadelphia\, Buffalo\, Boston\, Cleveland and abroad in Italy and Iceland\, and also numerous recital programs spanning the repertoire from J.S. Bach to Donald Martino.  A frequent guest of the Boston Symphony Chamber Players\, he also performs the four-hand and two-piano repertoire with his wife\, Leslie Amper. Festival appearances include Ravinia\, Bargemusic\, Chestnut Hill Concerts in Madison Connecticut\, Seattle Chamber Music Festival\, and Chamber Music Northwest (Portland\, OR). Solo recordings on the Ongaku\, New World\, and Albany labels  have garnered much critical acclaim.  Mr. Hodgkinson is on the faculties of the New England Conservatory of Music and Wellesley College and is a certified Feldenkrais Practitioner™. 
URL:https://dapontequartet.org/event/schumann-brahms-piano-quartets-with-randall-hodgkinson/
LOCATION:Portland Conservatory of Music\, 28 Neal St.\, Portland\, ME\, 04102\, United States
CATEGORIES:Concerts
ORGANIZER;CN="DaPonte String Quartet Foundation":MAILTO:info@dapontequartet.org
END:VEVENT
BEGIN:VEVENT
DTSTART;TZID=UTC:20240524T190000
DTEND;TZID=UTC:20240524T210000
DTSTAMP:20260419T092339
CREATED:20240411T193813Z
LAST-MODIFIED:20240416T234154Z
UID:941-1716577200-1716584400@dapontequartet.org
SUMMARY:ROCKPORT: Schumann & Brahms Piano Quartets
DESCRIPTION:Schumann Piano Quartet in Eb Major\, Op. 47 & Brahms Piano in G Minor\, Op. 25 with guest pianist\, Randall Hodgkinson. \n \n“The finest performance I have ever heard of this very difficult piece. It was as if he was reading my mind…” Aaron Copland on hearing pianist Randall Hodgkinson performing his Piano Fantasy in Jordan Hall\, Boston. While a student at the New England Conservatory Hodgkinson became grand prizewinner of the International American Music Competition sponsored by Carnegie Hall and the Rockefeller Foundation. He has performed with orchestras in Atlanta\, Philadelphia\, Buffalo\, Boston\, Cleveland and abroad in Italy and Iceland\, and also numerous recital programs spanning the repertoire from J.S. Bach to Donald Martino.  A frequent guest of the Boston Symphony Chamber Players\, he also performs the four-hand and two-piano repertoire with his wife\, Leslie Amper. Festival appearances include Ravinia\, Bargemusic\, Chestnut Hill Concerts in Madison Connecticut\, Seattle Chamber Music Festival\, and Chamber Music Northwest (Portland\, OR). Solo recordings on the Ongaku\, New World\, and Albany labels  have garnered much critical acclaim.  Mr. Hodgkinson is on the faculties of the New England Conservatory of Music and Wellesley College and is a certified Feldenkrais Practitioner™. 
URL:https://dapontequartet.org/event/schumann-brahms-piano-quartets/
LOCATION:Union Hall\, 24 Central Street\, Rockport\, ME\, 04856\, United States
CATEGORIES:Concerts
ORGANIZER;CN="DaPonte String Quartet Foundation":MAILTO:info@dapontequartet.org
END:VEVENT
BEGIN:VEVENT
DTSTART;TZID=UTC:20240523T190000
DTEND;TZID=UTC:20240523T210000
DTSTAMP:20260419T092339
CREATED:20240411T193504Z
LAST-MODIFIED:20240416T234353Z
UID:935-1716490800-1716498000@dapontequartet.org
SUMMARY:NEWCASTLE: Brahms & Schumann Piano Quartets
DESCRIPTION:Schumann Piano Quartet in Eb Major\, Op. 47 & Brahms Piano Quartet in G Minor\, Op. 25 with guest pianist\, Randall Hodgkinson. \n \n“The finest performance I have ever heard of this very difficult piece. It was as if he was reading my mind…” Aaron Copland on hearing pianist Randall Hodgkinson performing his Piano Fantasy in Jordan Hall\, Boston. While a student at the New England Conservatory Hodgkinson became grand prizewinner of the International American Music Competition sponsored by Carnegie Hall and the Rockefeller Foundation. He has performed with orchestras in Atlanta\, Philadelphia\, Buffalo\, Boston\, Cleveland and abroad in Italy and Iceland\, and also numerous recital programs spanning the repertoire from J.S. Bach to Donald Martino.  A frequent guest of the Boston Symphony Chamber Players\, he also performs the four-hand and two-piano repertoire with his wife\, Leslie Amper. Festival appearances include Ravinia\, Bargemusic\, Chestnut Hill Concerts in Madison Connecticut\, Seattle Chamber Music Festival\, and Chamber Music Northwest (Portland\, OR). Solo recordings on the Ongaku\, New World\, and Albany labels  have garnered much critical acclaim.  Mr. Hodgkinson is on the faculties of the New England Conservatory of Music and Wellesley College and is a certified Feldenkrais Practitioner™.  \n 
URL:https://dapontequartet.org/event/brahms-schumann-piano-quartets/
LOCATION:St. Patrick’s Catholic Church\, Newcastle\, 380 Academy Hill Rd.\, Newcastle\, ME\, 04553\, United States
CATEGORIES:Concerts
ORGANIZER;CN="DaPonte String Quartet Foundation":MAILTO:info@dapontequartet.org
END:VEVENT
BEGIN:VEVENT
DTSTART;TZID=America/New_York:20240414T160000
DTEND;TZID=America/New_York:20240414T180000
DTSTAMP:20260419T092339
CREATED:20240209T225610Z
LAST-MODIFIED:20240210T010239Z
UID:890-1713110400-1713117600@dapontequartet.org
SUMMARY:Concert Series II: Boothbay
DESCRIPTION:DaPonte String Quartet with guest oboist\, Amanda Hardy \nProgram: Mozart Oboe Quartet KV 370\, Dohnányi Serenade Op. 10 & Britten Phantasy Quartet for oboe\, violin\, viola and cello
URL:https://dapontequartet.org/event/concert-series-ii-boothbay/
LOCATION:St. Columba’s Episcopal Church\, 32 Emery Lane\, Boothbay Harbor\, ME\, 04538\, United States
CATEGORIES:Concerts
ATTACH;FMTTYPE=image/jpeg:https://dapontequartet.org/wp-content/uploads/2024/01/Amanda-Hardy-1.jpg
ORGANIZER;CN="DaPonte String Quartet Foundation":MAILTO:info@dapontequartet.org
END:VEVENT
BEGIN:VEVENT
DTSTART;TZID=America/New_York:20240413T193000
DTEND;TZID=America/New_York:20240413T210000
DTSTAMP:20260419T092339
CREATED:20240209T225101Z
LAST-MODIFIED:20240408T052523Z
UID:887-1713036600-1713042000@dapontequartet.org
SUMMARY:Concert Series II: Farmington
DESCRIPTION:DaPonte String Quartet with guest oboist\, Amanda Hardy \nProgram: Mozart Oboe Quartet KV 370\, Dohnányi Serenade Op. 10 & Britten Phantasy Quartet for oboe\, violin\, viola and cello
URL:https://dapontequartet.org/event/concert-series-ii-farmington/
LOCATION:Nordica Hall\, Merrill Hall\, Univ. of Maine\, 246 Main St.\, Farmington\, ME\, 04938\, United States
CATEGORIES:Concerts
ATTACH;FMTTYPE=image/jpeg:https://dapontequartet.org/wp-content/uploads/2024/01/Amanda-Hardy-1.jpg
ORGANIZER;CN="DaPonte String Quartet Foundation":MAILTO:info@dapontequartet.org
END:VEVENT
BEGIN:VEVENT
DTSTART;TZID=America/New_York:20240412T190000
DTEND;TZID=America/New_York:20240412T210000
DTSTAMP:20260419T092339
CREATED:20240209T224442Z
LAST-MODIFIED:20240210T010334Z
UID:884-1712948400-1712955600@dapontequartet.org
SUMMARY:Concert Series II: Freeport
DESCRIPTION:DaPonte String Quartet with guest oboist\, Amanda Hardy \nProgram: Mozart Oboe Quartet KV 370\, Dohnányi Serenade Op. 10 & Britten Phantasy Quartet for oboe\, violin\, viola and cello
URL:https://dapontequartet.org/event/concert-series-ii-freeport/
LOCATION:Meetinghouse Arts\, 40 Main Street\, Freeport\, ME\, 04032\, United States
CATEGORIES:Concerts
ATTACH;FMTTYPE=image/jpeg:https://dapontequartet.org/wp-content/uploads/2024/01/Amanda-Hardy-1.jpg
ORGANIZER;CN="DaPonte String Quartet Foundation":MAILTO:info@dapontequartet.org
END:VEVENT
BEGIN:VEVENT
DTSTART;TZID=America/New_York:20240411T190000
DTEND;TZID=America/New_York:20240411T210000
DTSTAMP:20260419T092339
CREATED:20240209T223820Z
LAST-MODIFIED:20240210T010417Z
UID:881-1712862000-1712869200@dapontequartet.org
SUMMARY:Concert Series II: Rockport
DESCRIPTION:DaPonte String Quartet with guest oboist\, Amanda Hardy \nProgram: Mozart Oboe Quartet KV 370\, Dohnányi Serenade Op. 10 & Britten Phantasy Quartet for oboe\, violin\, viola and cello
URL:https://dapontequartet.org/event/concert-series-ii-rockport/
LOCATION:Union Hall\, 24 Central Street\, Rockport\, ME\, 04856\, United States
CATEGORIES:Concerts
ATTACH;FMTTYPE=image/jpeg:https://dapontequartet.org/wp-content/uploads/2024/01/Amanda-Hardy-1.jpg
ORGANIZER;CN="DaPonte String Quartet Foundation":MAILTO:info@dapontequartet.org
END:VEVENT
BEGIN:VEVENT
DTSTART;TZID=America/New_York:20240410T190000
DTEND;TZID=America/New_York:20240410T210000
DTSTAMP:20260419T092339
CREATED:20240209T222701Z
LAST-MODIFIED:20240210T010501Z
UID:879-1712775600-1712782800@dapontequartet.org
SUMMARY:Concert Series II: Portland
DESCRIPTION:DaPonte String Quartet with guest oboist\, Amanda Hardy. \nProgram: Mozart Oboe Quartet KV 370\, Dohnányi Serenade Op. 10 & Britten Phantasy Quartet for oboe\, violin\, viola and cello
URL:https://dapontequartet.org/event/concert-series-ii-portland/
LOCATION:Jewish Community Alliance\, 1342 Congress St.\, Portland\, ME\, 04102\, United States
CATEGORIES:Concerts
ATTACH;FMTTYPE=image/jpeg:https://dapontequartet.org/wp-content/uploads/2024/01/Amanda-Hardy-1.jpg
ORGANIZER;CN="DaPonte String Quartet Foundation":MAILTO:info@dapontequartet.org
END:VEVENT
BEGIN:VEVENT
DTSTART;TZID=America/New_York:20240210T140000
DTEND;TZID=America/New_York:20240210T160000
DTSTAMP:20260419T092339
CREATED:20240209T231757Z
LAST-MODIFIED:20240210T010640Z
UID:899-1707573600-1707580800@dapontequartet.org
SUMMARY:Concert Series 1: Brunswick
DESCRIPTION:DaPonte String Quartet with guest cellist Fred Edelen \nProgram: Beethoven String Trio in D Major\, Op. 9 no 2\, Françaix String Trio & Arensky Quartet No. 2 in A minor\, Op. 35 for violin\, viola and 2 cellos
URL:https://dapontequartet.org/event/concert-series-1-brunswick/
LOCATION:Lemont Hall\, 2 Pleasant St.\, Brunswick\, ME\, 04011\, United States
CATEGORIES:Concerts
ATTACH;FMTTYPE=image/webp:https://dapontequartet.org/wp-content/uploads/2023/12/fred-kco-publicity-photo.webp
ORGANIZER;CN="DaPonte String Quartet Foundation":MAILTO:info@dapontequartet.org
END:VEVENT
BEGIN:VEVENT
DTSTART;TZID=America/New_York:20240209T190000
DTEND;TZID=America/New_York:20240209T210000
DTSTAMP:20260419T092339
CREATED:20240209T233618Z
LAST-MODIFIED:20240210T010722Z
UID:902-1707505200-1707512400@dapontequartet.org
SUMMARY:Concert Series I: Farmington
DESCRIPTION:DaPonte String Quartet with guest cellist Fred Edelen  \nProgram: Beethoven String Trio in D Major\, Op. 9 no 2\, Françaix String Trio & Arensky Quartet No. 2 in A minor\, Op. 35 for violin\, viola and 2 cellos
URL:https://dapontequartet.org/event/concert-series-i-farmington/
LOCATION:Nordica Hall\, Merrill Hall\, Univ. of Maine\, 246 Main St.\, Farmington\, ME\, 04938\, United States
CATEGORIES:Concerts
ATTACH;FMTTYPE=image/webp:https://dapontequartet.org/wp-content/uploads/2023/12/fred-kco-publicity-photo.webp
ORGANIZER;CN="DaPonte String Quartet Foundation":MAILTO:info@dapontequartet.org
END:VEVENT
END:VCALENDAR